BEGIN:VCALENDAR
VERSION:2.0
PRODID:-// - ECPv6.15.20//NONSGML v1.0//EN
CALSCALE:GREGORIAN
METHOD:PUBLISH
X-ORIGINAL-URL:https://boerdetiger.de
X-WR-CALDESC:Veranstaltungen für 
REFRESH-INTERVAL;VALUE=DURATION:PT1H
X-Robots-Tag:noindex
X-PUBLISHED-TTL:PT1H
BEGIN:VTIMEZONE
TZID:UTC
BEGIN:STANDARD
TZOFFSETFROM:+0000
TZOFFSETTO:+0000
TZNAME:UTC
DTSTART:20250101T000000
END:STANDARD
END:VTIMEZONE
BEGIN:VEVENT
DTSTART;VALUE=DATE:20261107
DTEND;VALUE=DATE:20261108
DTSTAMP:20260425T130009
CREATED:20251111T152504Z
LAST-MODIFIED:20251111T152504Z
UID:732-1794009600-1794095999@boerdetiger.de
SUMMARY:Bördetiger Cup
DESCRIPTION:Der all­jähr­li­che Bör­d­e­ti­ger Cup im Judo steht wie­der vor der Tür. Wir freu­en uns dar­auf\, Ath­le­tin­nen und Ath­le­ten aus der Regi­on zu einem span­nen­den und fai­ren Wett­kampf­tag begrü­ßen zu dür­fen.Wei­te­re Infor­ma­tio­nen zum Ablauf\, zur Anmel­dung und zu den Rah­men­be­din­gun­gen fol­gen.
URL:https://boerdetiger.de/kalender/boerdetiger-cup-3/
END:VEVENT
END:VCALENDAR