BEGIN:VCALENDAR
VERSION:2.0
PRODID:-// - ECPv6.15.20//NONSGML v1.0//EN
CALSCALE:GREGORIAN
METHOD:PUBLISH
X-ORIGINAL-URL:https://boerdetiger.de
X-WR-CALDESC:Veranstaltungen für 
REFRESH-INTERVAL;VALUE=DURATION:PT1H
X-Robots-Tag:noindex
X-PUBLISHED-TTL:PT1H
BEGIN:VTIMEZONE
TZID:Europe/Paris
BEGIN:DAYLIGHT
TZOFFSETFROM:+0100
TZOFFSETTO:+0200
TZNAME:CEST
DTSTART:20250330T010000
END:DAYLIGHT
BEGIN:STANDARD
TZOFFSETFROM:+0200
TZOFFSETTO:+0100
TZNAME:CET
DTSTART:20251026T010000
END:STANDARD
BEGIN:DAYLIGHT
TZOFFSETFROM:+0100
TZOFFSETTO:+0200
TZNAME:CEST
DTSTART:20260329T010000
END:DAYLIGHT
BEGIN:STANDARD
TZOFFSETFROM:+0200
TZOFFSETTO:+0100
TZNAME:CET
DTSTART:20261025T010000
END:STANDARD
BEGIN:DAYLIGHT
TZOFFSETFROM:+0100
TZOFFSETTO:+0200
TZNAME:CEST
DTSTART:20270328T010000
END:DAYLIGHT
BEGIN:STANDARD
TZOFFSETFROM:+0200
TZOFFSETTO:+0100
TZNAME:CET
DTSTART:20271031T010000
END:STANDARD
END:VTIMEZONE
BEGIN:VEVENT
DTSTART;TZID=Europe/Paris:20260216T170000
DTEND;TZID=Europe/Paris:20260216T190000
DTSTAMP:20260421T131240
CREATED:20251111T151109Z
LAST-MODIFIED:20251111T151109Z
UID:719-1771261200-1771268400@boerdetiger.de
SUMMARY:Judo Fasching
DESCRIPTION:Beim Judo-Fasching geht’s locker und spie­le­risch zu: Alle dür­fen ver­klei­det auf die Mat­te\, wir machen leich­te Übun­gen\, Spie­le und ein biss­chen Quatsch\, ohne den sport­li­chen Teil ganz zu ver­ges­sen. Eine Gele­gen­heit\, gemein­sam Spaß zu haben und das Trai­ning mal anders zu erle­ben. Kommt gern vor­bei und macht mit!
URL:https://boerdetiger.de/kalender/judo-fasching/
END:VEVENT
END:VCALENDAR